BEGIN:VCALENDAR
VERSION:2.0
PRODID:-//Victoria Theodore - ECPv4.9.6//NONSGML v1.0//EN
CALSCALE:GREGORIAN
METHOD:PUBLISH
X-WR-CALNAME:Victoria Theodore
X-ORIGINAL-URL:https://victoriatheodore.com
X-WR-CALDESC:Events for Victoria Theodore
BEGIN:VTIMEZONE
TZID:"UTC"
BEGIN:STANDARD
TZOFFSETFROM:+0000
TZOFFSETTO:+0000
TZNAME:UTC
DTSTART:20250101T000000
END:STANDARD
END:VTIMEZONE
BEGIN:VEVENT
DTSTART;TZID="UTC":20250409T183000
DTEND;TZID="UTC":20250409T213000
DTSTAMP:20260420T125940
CREATED:20250318T215643Z
LAST-MODIFIED:20250318T215643Z
UID:2810-1744223400-1744234200@victoriatheodore.com
SUMMARY:264 Keys 🎹💖🎹💖🎹
DESCRIPTION:\n\n \n\nHello music friends\,\n\n \n\nI’ll be in Benicia on April 9 performing with 2 of my powerhouse piano friends: David K. Mathews (Santana\, Tower of Power\, Etta James\, Lady Bianca) and Simon Russell (Sheila E\, Pete Escovedo\, The James Brown Band\, El Debarge\, Lady Bianca)!\n\n \n\nIt’s going to be a piano jam for the ages. Please join us\, get some great food and great tunes.\n\n \n\n264 Keys 🎹💖🎹💖🎹\n\n \n\nLucca Bar\n\n \n\nApril 9\, 2025 @ 6:30pm\n\n \n\n🔥 NO COVER CHARGE!\n\n \n\n🔥 ALL AGES ARE WELCOME!\n\n \n\n🔥 GREAT OUTDOOR BAR & BBQ!\n\n \n\n🔥 HEAVY DUTY ALL WEATHER TENTS!\n\n \n\n🔥 MULTIPLE OUTDOOR HEATERS FOR COMFORT!\n\n
URL:https://victoriatheodore.com/index.php/event/264-keys-%f0%9f%8e%b9%f0%9f%92%96%f0%9f%8e%b9%f0%9f%92%96%f0%9f%8e%b9/
LOCATION:Lucca Bar & Grill\, 439 First Street\, Benicia\, CA\, 94510\, United States
CATEGORIES:Bay Area,Performance,Public Event
ATTACH;FMTTYPE=image/jpeg:https://victoriatheodore.com/wp-content/uploads/2025/03/264-Keys-Photo.jpg
END:VEVENT
END:VCALENDAR