BEGIN:VCALENDAR
VERSION:2.0
PRODID:-//Victoria Theodore - ECPv4.9.6//NONSGML v1.0//EN
CALSCALE:GREGORIAN
METHOD:PUBLISH
X-WR-CALNAME:Victoria Theodore
X-ORIGINAL-URL:https://victoriatheodore.com
X-WR-CALDESC:Events for Victoria Theodore
BEGIN:VTIMEZONE
TZID:"UTC"
BEGIN:STANDARD
TZOFFSETFROM:+0000
TZOFFSETTO:+0000
TZNAME:UTC
DTSTART:20240101T000000
END:STANDARD
END:VTIMEZONE
BEGIN:VEVENT
DTSTART;TZID="UTC":20240621T200000
DTEND;TZID="UTC":20240621T200000
DTSTAMP:20260421T045550
CREATED:20240516T071549Z
LAST-MODIFIED:20240516T071800Z
UID:2792-1719000000-1719000000@victoriatheodore.com
SUMMARY:EnSPirits @ Everything Black Festival
DESCRIPTION:EnSPirits is performing for the Everything Black Festival in Santa Cruz! Victoria met the organizer\, Summer Red of Sonivore\, while on the Musical Soulmates Residency back in February 2024\, and quickly established a musical connection. \nEnSPirits is looking forward to bringing our music to Santa Cruz! \n
URL:https://victoriatheodore.com/index.php/event/enspirits-everything-black-festival/
LOCATION:Sonivore\, 1305 Fair Ave\, Santa Cruz\, 95060\, United States
CATEGORIES:Bay Area,Performance,Public Event
ATTACH;FMTTYPE=image/jpeg:https://victoriatheodore.com/wp-content/uploads/2024/05/EB-Poster-Socials-v1.jpg
END:VEVENT
END:VCALENDAR