BEGIN:VCALENDAR
VERSION:2.0
PRODID:-//Victoria Theodore - ECPv4.9.6//NONSGML v1.0//EN
CALSCALE:GREGORIAN
METHOD:PUBLISH
X-WR-CALNAME:Victoria Theodore
X-ORIGINAL-URL:https://victoriatheodore.com
X-WR-CALDESC:Events for Victoria Theodore
BEGIN:VTIMEZONE
TZID:"UTC"
BEGIN:STANDARD
TZOFFSETFROM:+0000
TZOFFSETTO:+0000
TZNAME:UTC
DTSTART:20240101T000000
END:STANDARD
END:VTIMEZONE
BEGIN:VEVENT
DTSTART;TZID="UTC":20240601T203000
DTEND;TZID="UTC":20240601T203000
DTSTAMP:20260421T045255
CREATED:20240516T063411Z
LAST-MODIFIED:20240516T070445Z
UID:2780-1717273800-1717273800@victoriatheodore.com
SUMMARY:EnSPirits in the Bay Area
DESCRIPTION:Hello friends! \nOn June 1\, EnSPirits will be opening for The Gold Souls in Dave’s hometown of Crockett! Toot’s Tavern is a Crockett institution\, and we’re excited to be performing our music for the home team 🥰 \n\n\n\nTICKETS\n$15.00 – Day of show price: $18.50\nGeneral Admission\n\n\n\n\n\nRESERVED SEAT IN THE MUSIC ROOM\n$24.99 – Day of show price: $29.00\nReserved – Multiple Tickets will be grouped together\n\n\n\n
URL:https://victoriatheodore.com/index.php/event/enspirits-in-the-bay-area/
LOCATION:Toot’s Tavern\, 627 2nd Avenue\, Crockett\, CA\, 94525\, United States
CATEGORIES:Bay Area,Performance,Public Event
ATTACH;FMTTYPE=image/jpeg:https://victoriatheodore.com/wp-content/uploads/2024/05/Toots.jpeg
END:VEVENT
END:VCALENDAR