BEGIN:VCALENDAR
VERSION:2.0
PRODID:-//Victoria Theodore - ECPv4.9.6//NONSGML v1.0//EN
CALSCALE:GREGORIAN
METHOD:PUBLISH
X-WR-CALNAME:Victoria Theodore
X-ORIGINAL-URL:https://victoriatheodore.com
X-WR-CALDESC:Events for Victoria Theodore
BEGIN:VTIMEZONE
TZID:"UTC"
BEGIN:STANDARD
TZOFFSETFROM:+0000
TZOFFSETTO:+0000
TZNAME:UTC
DTSTART:20240101T000000
END:STANDARD
END:VTIMEZONE
BEGIN:VEVENT
DTSTART;TZID="UTC":20240510T160000
DTEND;TZID="UTC":20240510T190000
DTSTAMP:20260421T062802
CREATED:20240505T161715Z
LAST-MODIFIED:20240505T161715Z
UID:2774-1715356800-1715367600@victoriatheodore.com
SUMMARY:EnSPirits in Japan @ Cafe de Paris
DESCRIPTION:Arrive early\, grab a great spot and be ready to dance\, have fun and say hello 🎶✨💐🎹🥰❤️ \nMay 10 @ 4pm & 6pm\, EnSPirits | Disco Jazz \n\n\nBistro Cafe de Paris\nYamamotodori\, Chuo-ku Kobe-shi\, Hyogo\, 650-0003\, Japan\n\nTel: 078-241-9448\nNo Music Charge\n\n\n
URL:https://victoriatheodore.com/index.php/event/enspirits-in-japan-cafe-de-paris/
CATEGORIES:Japan,Performance,Public Event
ATTACH;FMTTYPE=image/jpeg:https://victoriatheodore.com/wp-content/uploads/2024/05/CafeDeParis.jpeg
END:VEVENT
END:VCALENDAR