BEGIN:VCALENDAR
VERSION:2.0
PRODID:-//Victoria Theodore - ECPv4.9.6//NONSGML v1.0//EN
CALSCALE:GREGORIAN
METHOD:PUBLISH
X-WR-CALNAME:Victoria Theodore
X-ORIGINAL-URL:https://victoriatheodore.com
X-WR-CALDESC:Events for Victoria Theodore
BEGIN:VTIMEZONE
TZID:"UTC"
BEGIN:STANDARD
TZOFFSETFROM:+0000
TZOFFSETTO:+0000
TZNAME:UTC
DTSTART:20240101T000000
END:STANDARD
END:VTIMEZONE
BEGIN:VEVENT
DTSTART;TZID="UTC":20240509T193000
DTEND;TZID="UTC":20240509T193000
DTSTAMP:20260421T062925
CREATED:20240422T030728Z
LAST-MODIFIED:20240505T160531Z
UID:2755-1715283000-1715283000@victoriatheodore.com
SUMMARY:EnSPirits in Japan @ Zatto Four
DESCRIPTION:Arrive early\, grab a great spot and be ready to dance\, have fun and say hello 🎶✨💐🎹🥰❤️ \nMay 9 @ 7:30pm\, EnSPirits | Disco Jazz \nZatto Four \n\n\n4 Chome-2-5 Shinimazato\, Ikuno Ward\nOsaka\, 544-0001\, Japan\n\n\nTel: +81 6-6751-1990 \n¥2500 \n
URL:https://victoriatheodore.com/index.php/event/enspirits-in-japan-zatto-four/
CATEGORIES:Japan,Performance,Public Event
ATTACH;FMTTYPE=image/jpeg:https://victoriatheodore.com/wp-content/uploads/2024/04/EnSPIrits-Japan-@-Zatto.jpeg
END:VEVENT
END:VCALENDAR