BEGIN:VCALENDAR
VERSION:2.0
PRODID:-//Victoria Theodore - ECPv4.9.6//NONSGML v1.0//EN
CALSCALE:GREGORIAN
METHOD:PUBLISH
X-WR-CALNAME:Victoria Theodore
X-ORIGINAL-URL:https://victoriatheodore.com
X-WR-CALDESC:Events for Victoria Theodore
BEGIN:VTIMEZONE
TZID:"UTC"
BEGIN:STANDARD
TZOFFSETFROM:+0000
TZOFFSETTO:+0000
TZNAME:UTC
DTSTART:20150101T000000
END:STANDARD
END:VTIMEZONE
BEGIN:VEVENT
DTSTART;TZID="UTC":20151211T224500
DTEND;TZID="UTC":20151211T224500
DTSTAMP:20260422T010452
CREATED:20151203T232550Z
LAST-MODIFIED:20151203T232550Z
UID:1730-1449873900-1449873900@victoriatheodore.com
SUMMARY:YouBloom Festival LA 2015 - No Cover
DESCRIPTION:Hey Los Angeles!  I’ll be performing on Friday\, December 11\, 2015 at the youbloomLA 2015 Music Festival & Conference festival. \nyoubloom is a growing community of musicians\, fans and industry professionals facilitating their passion for music. youbloom is the global music village where you can learn\, connect and play. \nI hope to see you there! \nFREE!!\n
URL:https://victoriatheodore.com/index.php/event/youbloom-festival-la-2015-no-cover/
LOCATION:Griffin’s of Kinsale\, 1007 Mission Street\, South Pasadena\, 91030\, United States
CATEGORIES:Performance,Public Event
ATTACH;FMTTYPE=image/png:https://victoriatheodore.com/wp-content/uploads/2015/12/youbloom.png
END:VEVENT
END:VCALENDAR