BEGIN:VCALENDAR
VERSION:2.0
PRODID:-//Victoria Theodore - ECPv4.9.6//NONSGML v1.0//EN
CALSCALE:GREGORIAN
METHOD:PUBLISH
X-WR-CALNAME:Victoria Theodore
X-ORIGINAL-URL:https://victoriatheodore.com
X-WR-CALDESC:Events for Victoria Theodore
BEGIN:VTIMEZONE
TZID:"UTC"
BEGIN:STANDARD
TZOFFSETFROM:+0000
TZOFFSETTO:+0000
TZNAME:UTC
DTSTART:20150101T000000
END:STANDARD
END:VTIMEZONE
BEGIN:VEVENT
DTSTART;TZID="UTC":20150927T110000
DTEND;TZID="UTC":20150927T180000
DTSTAMP:20260420T171500
CREATED:20150826T235520Z
LAST-MODIFIED:20150826T235520Z
UID:1596-1443351600-1443376800@victoriatheodore.com
SUMMARY:Raz Kennedy presents Complete Vocal Technique's Cathrine Sadolin in Oakland
DESCRIPTION:Get ready for an incredible weekend long vocal intensive\, featuring Cathrine Sadolin\, founder of Complete Vocal Technique. Raz Kennedy brings this remarkable master vocal coach and researcher to the Bay Area from Copenhagen\, Denmark to give attendees a deeper look into the Complete Vocal Technique method\, to feature interactive demonstrations\, and provide cutting edge information about her revolutionary approach to vocal technique\, expression\, health\, and maintenance. \nVictoria Theodore (pianist and backing vocalist for Stevie Wonder) will be providing piano accompaniment. Open to beginning\, intermediate\, and advanced singers of all styles above the age of 15. Must be 18+ and an intermediate to advanced vocalist to participate in interactive demonstrations. \nSaturday and Sunday\, September 26th and 27th\, 2015 11 am – 6 pm each day \nImpact Hub Oakland 2323 Broadway\, Oakland\, California 94612 \nGeneral Admission: $120 (plus service fees) for both days. \nThis masterclass caters to anyone and everyone with a serious interest in vocal mechanics and technique – professional singers\, voice students\, vocal instructors and educators\, choir directors\, music business professionals\, producers\, vocal health care specialists\, and more. \n
URL:https://victoriatheodore.com/index.php/event/raz-kennedy-presents-complete-vocal-techniques-cathrine-sadolin-in-oakland-2/
LOCATION:Impact Hub Oakland\, 2323 Broadway\, Oakland\, 94612\, United States
CATEGORIES:Workshop
ATTACH;FMTTYPE=image/jpeg:https://victoriatheodore.com/wp-content/uploads/2015/08/Raz.jpg
END:VEVENT
END:VCALENDAR