BEGIN:VCALENDAR
VERSION:2.0
PRODID:-//Victoria Theodore - ECPv4.9.6//NONSGML v1.0//EN
CALSCALE:GREGORIAN
METHOD:PUBLISH
X-WR-CALNAME:Victoria Theodore
X-ORIGINAL-URL:https://victoriatheodore.com
X-WR-CALDESC:Events for Victoria Theodore
BEGIN:VTIMEZONE
TZID:"UTC"
BEGIN:STANDARD
TZOFFSETFROM:+0000
TZOFFSETTO:+0000
TZNAME:UTC
DTSTART:20150101T000000
END:STANDARD
END:VTIMEZONE
BEGIN:VEVENT
DTSTART;TZID="UTC":20151217T180000
DTEND;TZID="UTC":20151217T210000
DTSTAMP:20260422T043943
CREATED:20150930T011509Z
LAST-MODIFIED:20150930T011509Z
UID:1674-1450375200-1450386000@victoriatheodore.com
SUMMARY:Private Holiday Party
DESCRIPTION:A private holiday party in the Los Angeles area.  Book me for your holiday party today! \n
URL:https://victoriatheodore.com/index.php/event/private-holiday-party/
LOCATION:LA Area
CATEGORIES:Private Event
END:VEVENT
END:VCALENDAR