BEGIN:VCALENDAR
VERSION:2.0
PRODID:-//Victoria Theodore - ECPv4.9.6//NONSGML v1.0//EN
CALSCALE:GREGORIAN
METHOD:PUBLISH
X-WR-CALNAME:Victoria Theodore
X-ORIGINAL-URL:https://victoriatheodore.com
X-WR-CALDESC:Events for Victoria Theodore
BEGIN:VTIMEZONE
TZID:"UTC"
BEGIN:STANDARD
TZOFFSETFROM:+0000
TZOFFSETTO:+0000
TZNAME:UTC
DTSTART:20240101T000000
END:STANDARD
END:VTIMEZONE
BEGIN:VEVENT
DTSTART;TZID="UTC":20240210T110000
DTEND;TZID="UTC":20240210T130000
DTSTAMP:20260420T113824
CREATED:20240130T110117Z
LAST-MODIFIED:20240130T110117Z
UID:2726-1707562800-1707570000@victoriatheodore.com
SUMMARY:Musical Soulmates Residency - Duets Concert
DESCRIPTION:\nHello friends!\n\n\n\nI’ll be traveling to the Bay Area this week to join Musical Soulmates as their Artist in Residence. We’ll be performing lots of incredible music\, including music composed by black women (myself\, among them 🥰).\n\n\n\n The concerts feature me\, as the Musical Soulmates Artist in Residence\, Musical Soulmates students and Musical Soulmates Performers Collaborative. \n\nMusical Soulmates aims to fundraise and create awareness for Juneteenth Santa Cruz. I hope to see you there!\n\n\nAll concert tickets are available on EventBrite: TICKETS \n\n\nCONCERTS\n\n\n\n\n\nFeb 10 @ 11am – Duets Recital (no cover charge)\n\n\n\n\n\n\n\n\n\n\nPeace United Church of Christ\n\n\n900 High Street Santa Cruz\, CA 95060\n\n
URL:https://victoriatheodore.com/index.php/event/musical-soulmates-residency-duets-concert/
CATEGORIES:Bay Area,Performance,Public Event
END:VEVENT
END:VCALENDAR