BEGIN:VCALENDAR
VERSION:2.0
PRODID:-//Victoria Theodore - ECPv4.9.6//NONSGML v1.0//EN
CALSCALE:GREGORIAN
METHOD:PUBLISH
X-WR-CALNAME:Victoria Theodore
X-ORIGINAL-URL:https://victoriatheodore.com
X-WR-CALDESC:Events for Victoria Theodore
BEGIN:VTIMEZONE
TZID:"UTC"
BEGIN:STANDARD
TZOFFSETFROM:+0000
TZOFFSETTO:+0000
TZNAME:UTC
DTSTART:20150101T000000
END:STANDARD
END:VTIMEZONE
BEGIN:VEVENT
DTSTART;TZID="UTC":20150920T150000
DTEND;TZID="UTC":20150920T180000
DTSTAMP:20260420T141741
CREATED:20150827T020409Z
LAST-MODIFIED:20150827T020537Z
UID:1599-1442761200-1442772000@victoriatheodore.com
SUMMARY:Ms. Christine Hawkins Memorial Service
DESCRIPTION:A Memorial Concert honoring the National Association of Negro Musicians Golden Gate Branch Former Vice-President\, Ms. Christine Hawkins. \n
URL:https://victoriatheodore.com/index.php/event/ms-christine-hawkins-memorial-service/
LOCATION:Church by the side of the road\, 2108 Russell Street\, Berkeley\, CA\, United States
END:VEVENT
END:VCALENDAR