BEGIN:VCALENDAR
VERSION:2.0
PRODID:-//Victoria Theodore - ECPv4.9.6//NONSGML v1.0//EN
CALSCALE:GREGORIAN
METHOD:PUBLISH
X-WR-CALNAME:Victoria Theodore
X-ORIGINAL-URL:https://victoriatheodore.com
X-WR-CALDESC:Events for Victoria Theodore
BEGIN:VTIMEZONE
TZID:"UTC"
BEGIN:STANDARD
TZOFFSETFROM:+0000
TZOFFSETTO:+0000
TZNAME:UTC
DTSTART:20150101T000000
END:STANDARD
END:VTIMEZONE
BEGIN:VEVENT
DTSTART;TZID="UTC":20151022T200000
DTEND;TZID="UTC":20151022T220000
DTSTAMP:20260421T122556
CREATED:20150826T233926Z
LAST-MODIFIED:20150922T050816Z
UID:1588-1445544000-1445551200@victoriatheodore.com
SUMMARY:Hyim at The Mint
DESCRIPTION:
URL:https://victoriatheodore.com/index.php/event/hyim-at-the-mint/
LOCATION:The Mint\, 6010 W Pico Blvd.\, Los Angeles\, 90035
CATEGORIES:Performance
END:VEVENT
END:VCALENDAR