BEGIN:VCALENDAR
VERSION:2.0
PRODID:-//Victoria Theodore - ECPv4.9.6//NONSGML v1.0//EN
CALSCALE:GREGORIAN
METHOD:PUBLISH
X-WR-CALNAME:Victoria Theodore
X-ORIGINAL-URL:https://victoriatheodore.com
X-WR-CALDESC:Events for Victoria Theodore
BEGIN:VTIMEZONE
TZID:"UTC"
BEGIN:STANDARD
TZOFFSETFROM:+0000
TZOFFSETTO:+0000
TZNAME:UTC
DTSTART:20150101T000000
END:STANDARD
END:VTIMEZONE
BEGIN:VEVENT
DTSTART;TZID="UTC":20151010T170000
DTEND;TZID="UTC":20151010T210000
DTSTAMP:20260421T030310
CREATED:20150922T044241Z
LAST-MODIFIED:20150929T233805Z
UID:1643-1444496400-1444510800@victoriatheodore.com
SUMMARY:House Concert: YL
DESCRIPTION:A private House Concert.  Want to host?  No cost to you! Email me! \n
URL:https://victoriatheodore.com/index.php/event/house-concert-yl/
LOCATION:Bay Area\, CA\, United States
CATEGORIES:House Concert
ATTACH;FMTTYPE=image/png:https://victoriatheodore.com/wp-content/uploads/2015/09/HumanConcert.png
END:VEVENT
END:VCALENDAR