BEGIN:VCALENDAR
VERSION:2.0
PRODID:-//Victoria Theodore - ECPv4.9.6//NONSGML v1.0//EN
CALSCALE:GREGORIAN
METHOD:PUBLISH
X-WR-CALNAME:Victoria Theodore
X-ORIGINAL-URL:https://victoriatheodore.com
X-WR-CALDESC:Events for Victoria Theodore
BEGIN:VTIMEZONE
TZID:"UTC"
BEGIN:STANDARD
TZOFFSETFROM:+0000
TZOFFSETTO:+0000
TZNAME:UTC
DTSTART:20150101T000000
END:STANDARD
END:VTIMEZONE
BEGIN:VEVENT
DTSTART;TZID="UTC":20151011T150000
DTEND;TZID="UTC":20151011T180000
DTSTAMP:20260421T043232
CREATED:20150904T031700Z
LAST-MODIFIED:20150909T032615Z
UID:1616-1444575600-1444586400@victoriatheodore.com
SUMMARY:House Concert: Mike M.
DESCRIPTION:A private House Concert.  Want to host?  No cost to you! Email me! \n
URL:https://victoriatheodore.com/index.php/event/house-concert-mike-m/
LOCATION:Sacramento\, CA\, United States
ATTACH;FMTTYPE=image/png:https://victoriatheodore.com/wp-content/uploads/2015/09/HumanConcert.png
END:VEVENT
END:VCALENDAR