BEGIN:VCALENDAR
VERSION:2.0
PRODID:-//Victoria Theodore - ECPv4.9.6//NONSGML v1.0//EN
CALSCALE:GREGORIAN
METHOD:PUBLISH
X-WR-CALNAME:Victoria Theodore
X-ORIGINAL-URL:https://victoriatheodore.com
X-WR-CALDESC:Events for Victoria Theodore
BEGIN:VTIMEZONE
TZID:"UTC"
BEGIN:STANDARD
TZOFFSETFROM:+0000
TZOFFSETTO:+0000
TZNAME:UTC
DTSTART:20150101T000000
END:STANDARD
END:VTIMEZONE
BEGIN:VEVENT
DTSTART;TZID="UTC":20151204T170000
DTEND;TZID="UTC":20151204T210000
DTSTAMP:20260421T220320
CREATED:20150930T011306Z
LAST-MODIFIED:20151202T194117Z
UID:1671-1449248400-1449262800@victoriatheodore.com
SUMMARY:House Concert: Alanna S.
DESCRIPTION:A private House Concert.  Want to host?  No cost to you! Email me! \n
URL:https://victoriatheodore.com/index.php/event/house-concert-mal-lita-t/
LOCATION:Northern San Joaquin Valley
CATEGORIES:House Concert
ATTACH;FMTTYPE=image/png:https://victoriatheodore.com/wp-content/uploads/2015/09/HumanConcert.png
END:VEVENT
END:VCALENDAR