BEGIN:VCALENDAR
VERSION:2.0
PRODID:-//Victoria Theodore - ECPv4.9.6//NONSGML v1.0//EN
CALSCALE:GREGORIAN
METHOD:PUBLISH
X-WR-CALNAME:Victoria Theodore
X-ORIGINAL-URL:https://victoriatheodore.com
X-WR-CALDESC:Events for Victoria Theodore
BEGIN:VTIMEZONE
TZID:"UTC"
BEGIN:STANDARD
TZOFFSETFROM:+0000
TZOFFSETTO:+0000
TZNAME:UTC
DTSTART:20150101T000000
END:STANDARD
END:VTIMEZONE
BEGIN:VEVENT
DTSTART;TZID="UTC":20150917T200000
DTEND;TZID="UTC":20150917T230000
DTSTAMP:20260420T125115
CREATED:20150917T025709Z
LAST-MODIFIED:20150917T025709Z
UID:1638-1442520000-1442530800@victoriatheodore.com
SUMMARY:Gonzo and Friends IV
DESCRIPTION:\n\nVery Happy to be getting groovy with Alexander E. Gonzalez and this seriously talented bunch Thursday night at Zona Rosa Caffe for “Thursday Night Music”.\nGet Your Groove On With Us!\nThe Friends:\nKey Kim – Bass\nNick Luca – Guitar\nRod Castro – Guitar\nand me – Keys \nFREE! \n  \n\n\n\n
URL:https://victoriatheodore.com/index.php/event/gonzo-and-friends-iv/
LOCATION:Zona Rosa Caffe\, 15 S El Molino Ave\, Pasadena\, CA\, 91101\, United States
CATEGORIES:Performance
ATTACH;FMTTYPE=image/jpeg:https://victoriatheodore.com/wp-content/uploads/2015/09/Gonzo.jpg
END:VEVENT
END:VCALENDAR