BEGIN:VCALENDAR
VERSION:2.0
PRODID:-//Victoria Theodore - ECPv4.9.6//NONSGML v1.0//EN
CALSCALE:GREGORIAN
METHOD:PUBLISH
X-WR-CALNAME:Victoria Theodore
X-ORIGINAL-URL:https://victoriatheodore.com
X-WR-CALDESC:Events for Victoria Theodore
BEGIN:VTIMEZONE
TZID:"UTC"
BEGIN:STANDARD
TZOFFSETFROM:+0000
TZOFFSETTO:+0000
TZNAME:UTC
DTSTART:20150101T000000
END:STANDARD
END:VTIMEZONE
BEGIN:VEVENT
DTSTART;TZID="UTC":20150405T120000
DTEND;TZID="UTC":20150405T140000
DTSTAMP:20260420T084414
CREATED:20150115T224743Z
LAST-MODIFIED:20150305T034258Z
UID:1382-1428235200-1428242400@victoriatheodore.com
SUMMARY:Easter Sunday Services
DESCRIPTION:I will be the accompanist for both of the Easter services at Metropolitan Community Church of San Francisco on Sunday\, April 5.  MCCSF is a beautiful\, welcoming community\, filled with the spirit of love…and a fantastic group of brilliant singers.  Come and be lifted!\n\n\nThe two services are at 12pm and 6pm.\n
URL:https://victoriatheodore.com/index.php/event/easter-sunday-services/
LOCATION:Metropolitan Community Church of San Francisco\, 1300 Polk Street\, San Francisco\, CA\, 94109\, United States
CATEGORIES:Performance
ATTACH;FMTTYPE=image/jpeg:https://victoriatheodore.com/wp-content/uploads/2015/01/PrayerRequest2.jpg
END:VEVENT
END:VCALENDAR