BEGIN:VCALENDAR
VERSION:2.0
PRODID:-//Victoria Theodore - ECPv4.9.6//NONSGML v1.0//EN
CALSCALE:GREGORIAN
METHOD:PUBLISH
X-WR-CALNAME:Victoria Theodore
X-ORIGINAL-URL:http://victoriatheodore.com
X-WR-CALDESC:Events for Victoria Theodore
BEGIN:VTIMEZONE
TZID:"America/Los_Angeles"
BEGIN:DAYLIGHT
TZOFFSETFROM:-0800
TZOFFSETTO:-0700
TZNAME:PDT
DTSTART:20240310T100000
END:DAYLIGHT
BEGIN:STANDARD
TZOFFSETFROM:-0700
TZOFFSETTO:-0800
TZNAME:PST
DTSTART:20241103T090000
END:STANDARD
TZID:"UTC"
BEGIN:STANDARD
TZOFFSETFROM:+0000
TZOFFSETTO:+0000
TZNAME:UTC
DTSTART:20240101T000000
END:STANDARD
END:VTIMEZONE
BEGIN:VEVENT
DTSTART;TZID="America/Los_Angeles":20240204T190000
DTEND;TZID="America/Los_Angeles":20240204T220000
DTSTAMP:20260423T013119
CREATED:20240130T101909Z
LAST-MODIFIED:20240130T110001Z
UID:2714-1707073200-1707084000@victoriatheodore.com
SUMMARY:Musical Soulmates Residency - Prayer for Humanity
DESCRIPTION:\nHello friends!\n\n\n\nI’ll be traveling to the Bay Area this week to join Musical Soulmates as their Artist in Residence. We’ll be performing lots of incredible music\, including music composed by black women (myself\, among them 🥰).\n\n\n\n The concerts feature me\, as the Musical Soulmates Artist in Residence\, Musical Soulmates students and Musical Soulmates Performers Collaborative. \n\nMusical Soulmates aims to fundraise and create awareness for Juneteenth Santa Cruz. I hope to see you there!\n\n\nAll concert tickets are available on EventBrite: TICKETS \n\n\n\nFeb 4 @ 7pm – Prayer for Humanity \n \n\n\n\n\n\n\n\n\n\nKuumbwa Jazz Center\n\n\n320 Cedar Street\, Santa Cruz\, CA 95060\n\n
URL:http://victoriatheodore.com/index.php/event/2714/
CATEGORIES:Bay Area,Performance,Public Event
END:VEVENT
BEGIN:VEVENT
DTSTART;TZID="UTC":20240204T190000
DTEND;TZID="UTC":20240204T210000
DTSTAMP:20260423T013119
CREATED:20240204T060058Z
LAST-MODIFIED:20240204T060232Z
UID:2734-1707073200-1707080400@victoriatheodore.com
SUMMARY:Musical Soulmates: “Prayer for Humanity"
DESCRIPTION:\n\n\n\nMusical Soulmates!\n\nOur first concert is tomorrow\, Sunday\, February 4! I’ve been teaching some incredible students and rehearsing with fabulous musicians\, all under the guidance of Kate Alm\, the visionary behind @musicalsoulmatessc\n\n\n\nThis Sunday\, February 4th\, at 7:00 PM at Kuumbwa Jazz Center\, “Prayer for Humanity\, Celebrating Black History\, Black Artistry\, and Delivering Joy and Healing”. \n\nGet ready for a funky\, soulful\, and glittery night out featuring me in community with amazing local talents!! We’ll be playing original music as well as songs by artists who have mastered the craft of storytelling through song. See you there!\n\n\nTICKETS\n\n\n#musicsoulmates #victoriatheodore #kwuumbajazz #musicinsantacruz #community #santacruz #liveinsantacruz\n\n\n\n\n\n
URL:http://victoriatheodore.com/index.php/event/musical-soulmates-prayer-for-humanity/
CATEGORIES:Bay Area,Performance,Public Event
ATTACH;FMTTYPE=image/png:http://victoriatheodore.com/wp-content/uploads/2024/02/Prayer-For-Humanity-PNG.png
END:VEVENT
END:VCALENDAR