BEGIN:VCALENDAR
VERSION:2.0
PRODID:-//Victoria Theodore - ECPv4.9.6//NONSGML v1.0//EN
CALSCALE:GREGORIAN
METHOD:PUBLISH
X-WR-CALNAME:Victoria Theodore
X-ORIGINAL-URL:http://victoriatheodore.com
X-WR-CALDESC:Events for Victoria Theodore
BEGIN:VTIMEZONE
TZID:"UTC"
BEGIN:STANDARD
TZOFFSETFROM:+0000
TZOFFSETTO:+0000
TZNAME:UTC
DTSTART:20230101T000000
END:STANDARD
END:VTIMEZONE
BEGIN:VEVENT
DTSTART;TZID="UTC":20231223T200000
DTEND;TZID="UTC":20231223T200000
DTSTAMP:20260423T043017
CREATED:20231221T002353Z
LAST-MODIFIED:20231221T002353Z
UID:2702-1703361600-1703361600@victoriatheodore.com
SUMMARY:Christmas EnSPirits @ Baltic Kiss
DESCRIPTION:\n\n\nFrom LA to Italy to Richmond\, EnSPirits is bringing Christmas joy\, this time in pirate style 🎄 🏴‍☠️ 💖\n\n\n\n\n\nFREE! entry! \n\n\n \n\n\nThere’s a costume contest\, food & drink for purchase\, DJ DELON & Sir Fun and us!!!\n\n\n#BalticKiss #EnSPirits #BayArea #Christmas #HolidaySeason #LiveMusic #GoodTimes\n\n\n \n\n\nSat\, Dec 23\, 2023\n\n\n8pm\n\n\n\n
URL:http://victoriatheodore.com/index.php/event/christmas-enspirits-baltic-kiss/
LOCATION:Baltic Kiss\, 135 Park Pl\, Richmond\, CA\, 94801\, United States
CATEGORIES:Bay Area,Performance,Public Event
ATTACH;FMTTYPE=image/jpeg:http://victoriatheodore.com/wp-content/uploads/2023/12/EnSpirits-Xmas-122323.jpg
END:VEVENT
END:VCALENDAR