BEGIN:VCALENDAR
VERSION:2.0
PRODID:-//Victoria Theodore - ECPv4.9.6//NONSGML v1.0//EN
CALSCALE:GREGORIAN
METHOD:PUBLISH
X-WR-CALNAME:Victoria Theodore
X-ORIGINAL-URL:http://victoriatheodore.com
X-WR-CALDESC:Events for Victoria Theodore
BEGIN:VTIMEZONE
TZID:"UTC"
BEGIN:STANDARD
TZOFFSETFROM:+0000
TZOFFSETTO:+0000
TZNAME:UTC
DTSTART:20230101T000000
END:STANDARD
END:VTIMEZONE
BEGIN:VEVENT
DTSTART;TZID="UTC":20230925T190000
DTEND;TZID="UTC":20230925T200000
DTSTAMP:20260423T075534
CREATED:20230923T001429Z
LAST-MODIFIED:20230923T002419Z
UID:2687-1695668400-1695672000@victoriatheodore.com
SUMMARY:EnSpirits on The LIFE CHANGES Show - Ep756
DESCRIPTION:\nEnSpirits on The LIFE CHANGES Show – Ep756\n\n\n\nEnSPirits will be featuring on an episode of “The LIFE CHANGES Show” \nMonday\, September 25\, at 7pm PT \nThe LIFE CHANGES Show resurrects classic variety talk show formats of the past like The Johnny Carson Show\, but with technology and a futuristic twist that has never been possible until now! Thanks to our wonderful friend in England\, Ilana Lorraine\, for creating this opportunity. Please follow her and her incredible\, curated events: Sessions 58 \nListen Live on the iHeartRadio’ banner at link at the top of the page: EnSPirits on The LIFE CHANGES Show \n#lifechangesshow #talkthatmatters #EnSpirits #DiscoJazz #OriginalMusic #lifechanges #life #changes #lifecoaching #lifechangesnetwork #podcast #bbs #iHeartRadio #inspiration #inspiration #interview #motivation #coaching #filippovoltaggio #marklaisure #dorothyleedonahue \n\n\n
URL:http://victoriatheodore.com/index.php/event/enspirits-on-the-life-changes-show-ep756/
CATEGORIES:Online,Public Event
END:VEVENT
END:VCALENDAR