BEGIN:VCALENDAR
VERSION:2.0
PRODID:-//Victoria Theodore - ECPv4.9.6//NONSGML v1.0//EN
CALSCALE:GREGORIAN
METHOD:PUBLISH
X-WR-CALNAME:Victoria Theodore
X-ORIGINAL-URL:http://victoriatheodore.com
X-WR-CALDESC:Events for Victoria Theodore
BEGIN:VTIMEZONE
TZID:"UTC"
BEGIN:STANDARD
TZOFFSETFROM:+0000
TZOFFSETTO:+0000
TZNAME:UTC
DTSTART:20170101T000000
END:STANDARD
END:VTIMEZONE
BEGIN:VEVENT
DTSTART;TZID="UTC":20170706T200000
DTEND;TZID="UTC":20170706T230000
DTSTAMP:20260421T183317
CREATED:20170519T065654Z
LAST-MODIFIED:20170519T065654Z
UID:2024-1499371200-1499382000@victoriatheodore.com
SUMMARY:Mayssa Karaa at the Zouk Mikael International Festival
DESCRIPTION:I’m excited to be performing with Mayssa Karaa at the Zouk Mikael International Festival in Beirut\, Lebanon! This will be my first trip to Lebanon and I’m excited to visit such an amazing cultural and historical landmark. \nTickets \n  \n
URL:http://victoriatheodore.com/index.php/event/mayssa-karaa/
CATEGORIES:Performance,Public Event
ATTACH;FMTTYPE=image/png:http://victoriatheodore.com/wp-content/uploads/2017/05/Mayssa.png
END:VEVENT
END:VCALENDAR